BEGIN:VCALENDAR
VERSION:2.0
PRODID:-//Erasmus University Rotterdam//Event calender//EN
X-WR-TIMEZONE:Europe/Amsterdam
X-WR-CALNAME:Erasmus University Rotterdam - Event calender
BEGIN:VTIMEZONE
TZID:Europe/Amsterdam
X-LIC-LOCATION:Europe/Amsterdam
BEGIN:DAYLIGHT
TZOFFSETFROM:+0100
TZOFFSETTO:+0200
TZNAME:CEST
DTSTART:19700329T020000
RRULE:FREQ=YEARLY;BYMONTH=3;BYDAY=-1SU
END:DAYLIGHT
BEGIN:STANDARD
TZOFFSETFROM:+0200
TZOFFSETTO:+0100
TZNAME:CET
DTSTART:19701025T030000
RRULE:FREQ=YEARLY;BYMONTH=10;BYDAY=-1SU
END:STANDARD
END:VTIMEZONE
BEGIN:VEVENT
DTSTART;TZID=Europe/Amsterdam:20251202T163000
DTEND;TZID=Europe/Amsterdam:20251202T183000
DTSTAMP:20260421T154544Z
UID:MTc2NDY4OTQwMF8xNzY0Njk2NjAwX0NyZWF0aXZlIFdyaXRpbmcgV29ya3Nob3AgSG9saWRheSBTcGVjaWFs
SUMMARY:Creative Writing Workshop Holiday Special
DESCRIPTION:Ga voor meer informatie naar https://www.eur.nl/evenementen/creative-writing-workshop-holiday-special-2025-12-02
LOCATION:
END:VEVENT
END:VCALENDAR
