BEGIN:VCALENDAR
VERSION:2.0
PRODID:-//Erasmus University Rotterdam//Event calender//EN
X-WR-TIMEZONE:Europe/Amsterdam
X-WR-CALNAME:Erasmus University Rotterdam - Event calender
BEGIN:VTIMEZONE
TZID:Europe/Amsterdam
X-LIC-LOCATION:Europe/Amsterdam
BEGIN:DAYLIGHT
TZOFFSETFROM:+0100
TZOFFSETTO:+0200
TZNAME:CEST
DTSTART:19700329T020000
RRULE:FREQ=YEARLY;BYMONTH=3;BYDAY=-1SU
END:DAYLIGHT
BEGIN:STANDARD
TZOFFSETFROM:+0200
TZOFFSETTO:+0100
TZNAME:CET
DTSTART:19701025T030000
RRULE:FREQ=YEARLY;BYMONTH=10;BYDAY=-1SU
END:STANDARD
END:VTIMEZONE
BEGIN:VEVENT
DTSTART;TZID=Europe/Amsterdam:20260126T100000
DTEND;TZID=Europe/Amsterdam:20260204T170000
DTSTAMP:20260423T090716Z
UID:MTc2OTQxODAwMF8xNzcwMjIwODAwX1RyYWRpbmcgJiBDb21tb2RpdHkgVHJhZGluZyBEYXlzIChVcGRhdGUgdGhlIEhlYWRlciBJbWFnZSBiZWZvcmUgcHVibGlzaGluZyk=
SUMMARY:Trading &amp; Commodity Trading Days (Update the Header Image before publishing)
DESCRIPTION:For more information see https://www.eur.nl/en/events/trading-commodity-trading-days-update-header-image-publishing-2026-01-26
LOCATION:
END:VEVENT
END:VCALENDAR
