BEGIN:VCALENDAR
VERSION:2.0
PRODID:-//Erasmus University Rotterdam//Event calender//EN
X-WR-TIMEZONE:Europe/Amsterdam
X-WR-CALNAME:Erasmus University Rotterdam - Event calender
BEGIN:VTIMEZONE
TZID:Europe/Amsterdam
X-LIC-LOCATION:Europe/Amsterdam
BEGIN:DAYLIGHT
TZOFFSETFROM:+0100
TZOFFSETTO:+0200
TZNAME:CEST
DTSTART:19700329T020000
RRULE:FREQ=YEARLY;BYMONTH=3;BYDAY=-1SU
END:DAYLIGHT
BEGIN:STANDARD
TZOFFSETFROM:+0200
TZOFFSETTO:+0100
TZNAME:CET
DTSTART:19701025T030000
RRULE:FREQ=YEARLY;BYMONTH=10;BYDAY=-1SU
END:STANDARD
END:VTIMEZONE
BEGIN:VEVENT
DTSTART;TZID=Europe/Amsterdam:20260414T135000
DTEND;TZID=Europe/Amsterdam:20260414T170000
DTSTAMP:20260425T234404Z
UID:MTc3NjE2NzQwMF8xNzc2MTc4ODAwX01lZWxvb3BkYWcgQmVkcmlqZnNrdW5kZQ==
SUMMARY:Meeloopdag Bedrijfskunde
DESCRIPTION:Ga voor meer informatie naar https://www.eur.nl/evenementen/meeloopdag-bedrijfskunde-2026-04-14
LOCATION:
END:VEVENT
END:VCALENDAR
