BEGIN:VCALENDAR
VERSION:2.0
PRODID:-//Erasmus University Rotterdam//Event calender//EN
X-WR-TIMEZONE:Europe/Amsterdam
X-WR-CALNAME:Erasmus University Rotterdam - Event calender
BEGIN:VTIMEZONE
TZID:Europe/Amsterdam
X-LIC-LOCATION:Europe/Amsterdam
BEGIN:DAYLIGHT
TZOFFSETFROM:+0100
TZOFFSETTO:+0200
TZNAME:CEST
DTSTART:19700329T020000
RRULE:FREQ=YEARLY;BYMONTH=3;BYDAY=-1SU
END:DAYLIGHT
BEGIN:STANDARD
TZOFFSETFROM:+0200
TZOFFSETTO:+0100
TZNAME:CET
DTSTART:19701025T030000
RRULE:FREQ=YEARLY;BYMONTH=10;BYDAY=-1SU
END:STANDARD
END:VTIMEZONE
BEGIN:VEVENT
DTSTART;TZID=Europe/Amsterdam:20251209T150000
DTEND;TZID=Europe/Amsterdam:20251209T170000
DTSTAMP:20260420T165042Z
UID:MTc2NTI4ODgwMF8xNzY1Mjk2MDAwX0FjY3Vyc2VkIEludGVsbGlnZW5jZSAoTWFyY2luIEtvcmVja2kp
SUMMARY:Accursed Intelligence (Marcin Korecki)
DESCRIPTION:For more information see https://www.eur.nl/en/events/accursed-intelligence-marcin-korecki-2025-12-09
LOCATION:Room: Langeveld 3.12
END:VEVENT
END:VCALENDAR
